BEGIN:VCALENDAR
VERSION:2.0
PRODID:-//Squarespace Inc/Squarespace 6//v6//EN
BEGIN:VEVENT
UID:5efb5e62d305a44006c88cae@squarespace.com
DTSTAMP:20200630T154658Z
DTSTART:20200709T160000Z
DTEND:20200709T170000Z
SUMMARY:Virtual Thursday Roundtable
END:VEVENT
END:VCALENDAR
