BEGIN:VCALENDAR
VERSION:2.0
PRODID:-//Squarespace Inc/Squarespace 6//v6//EN
BEGIN:VEVENT
UID:5efb5d3c4db8d524d9113a7e@squarespace.com
DTSTAMP:20200630T154201Z
DTSTART:20200709T143000Z
DTEND:20200709T153000Z
SUMMARY:District Director Zoom Conferences: District Director Zoom Conferen
 ces: Impact of Corona on Districts- XIII
END:VEVENT
END:VCALENDAR
