BEGIN:VCALENDAR
VERSION:2.0
PRODID:-//Squarespace Inc/Squarespace 6//v6//EN
BEGIN:VEVENT
UID:5f05df6b8ebe1d68796d2960@squarespace.com
DTSTAMP:20200708T150546Z
DTSTART:20200721T150000Z
DTEND:20200721T160000Z
SUMMARY:Virtual Programming: US-Pacific Engagement 
END:VEVENT
END:VCALENDAR
