BEGIN:VCALENDAR
VERSION:2.0
PRODID:-//Squarespace Inc/Squarespace 6//v6//EN
BEGIN:VEVENT
UID:5ee1447dc2c7f04efa065f08@squarespace.com
DTSTAMP:20200617T192155Z
DTSTART:20200702T210000Z
DTEND:20200702T220000Z
SUMMARY:CSGJ Virtual Happy Hour on 2020 U.S. Presidential Election
END:VEVENT
END:VCALENDAR
