BEGIN:VCALENDAR
VERSION:2.0
PRODID:-//Squarespace Inc/Squarespace 6//v6//EN
BEGIN:VEVENT
UID:5ef37adad57bcf1ee8f52678@squarespace.com
DTSTAMP:20200630T153819Z
DTSTART:20200702T130000Z
DTEND:20200702T140000Z
SUMMARY:Virtual Thursday Panel- International Bottleneck: Fixing the Americ
 an Work Visa 
END:VEVENT
END:VCALENDAR
