BEGIN:VCALENDAR
VERSION:2.0
PRODID:-//Squarespace Inc/Squarespace 6//v6//EN
BEGIN:VEVENT
UID:5ef37af621bceb25f06247aa@squarespace.com
DTSTAMP:20200630T154801Z
DTSTART:20200716T150000Z
DTEND:20200716T160000Z
SUMMARY:Virtual Thursday Panel: Campaign 2020: China at the Center\, but Ch
 inese-Americans in the Middle
END:VEVENT
END:VCALENDAR
