BEGIN:VCALENDAR
VERSION:2.0
PRODID:-//Squarespace Inc/Squarespace 6//v6//EN
BEGIN:VEVENT
UID:5efb5d0679cfd34dfddc33a6@squarespace.com
DTSTAMP:20200630T154109Z
DTSTART:20200630T160000Z
DTEND:20200630T170000Z
SUMMARY:Virtual Senator Get-Together
END:VEVENT
END:VCALENDAR
