BEGIN:VCALENDAR
VERSION:2.0
PRODID:-//Squarespace Inc/Squarespace 6//v6//EN
BEGIN:VEVENT
UID:5efb5cbe7fe4396607df3026@squarespace.com
DTSTAMP:20200630T154029Z
DTSTART:20200630T130000Z
DTEND:20200630T140000Z
SUMMARY:The Current State of Transatlantic Alliance: A Bilateral Discussion 
 with Parliamentarians from the US and Germany 
END:VEVENT
END:VCALENDAR
