BEGIN:VCALENDAR
VERSION:2.0
PRODID:-//Squarespace Inc/Squarespace 6//v6//EN
BEGIN:VEVENT
UID:5efb5e82aab42668bb4df9ff@squarespace.com
DTSTAMP:20200630T154724Z
DTSTART:20200630T160000Z
DTEND:20200630T170000Z
SUMMARY:Telephone Townhall
END:VEVENT
END:VCALENDAR
