BEGIN:VCALENDAR
VERSION:2.0
PRODID:-//Squarespace Inc/Squarespace 6//v6//EN
BEGIN:VEVENT
UID:5efb5d8e5c5ae24a6ecedff5@squarespace.com
DTSTAMP:20200630T154616Z
DTSTART:20200709T020000Z
DTEND:20200709T030000Z
SUMMARY:Indo-Pacific Discussion
END:VEVENT
END:VCALENDAR
