BEGIN:VCALENDAR
VERSION:2.0
PRODID:-//Squarespace Inc/Squarespace 6//v6//EN
BEGIN:VEVENT
UID:5ee14432bd842a414a3e3b91@squarespace.com
DTSTAMP:20200617T192052Z
DTSTART:20200617T180000Z
DTEND:20200617T190000Z
SUMMARY:70 Years of Conflict and Diplomacy: What’s ahead for U.S. - DPRK Re
 lations?
END:VEVENT
END:VCALENDAR
