BEGIN:VCALENDAR
VERSION:2.0
PRODID:-//Squarespace Inc/Squarespace 6//v6//EN
BEGIN:VEVENT
UID:5ed7ebe41003f32bff92bc35@squarespace.com
DTSTAMP:20200603T182946Z
DTSTART:20200409T170000Z
DTEND:20200409T180000Z
SUMMARY:Virtual Thursday Panel: Getting Products to Market - Supply Chains 
 During and After the Pandemic
END:VEVENT
END:VCALENDAR
