BEGIN:VCALENDAR
VERSION:2.0
PRODID:-//Squarespace Inc/Squarespace 6//v6//EN
BEGIN:VEVENT
UID:5ed802c5c6fdf215d6086fb9@squarespace.com
DTSTAMP:20200603T200638Z
DTSTART:20200409T143000Z
DTEND:20200409T153000Z
SUMMARY:District Director Zoom Conference: Impact of Corona on Districts - 
 IV
END:VEVENT
END:VCALENDAR
