BEGIN:VCALENDAR
VERSION:2.0
PRODID:-//Squarespace Inc/Squarespace 6//v6//EN
BEGIN:VEVENT
UID:5ed7ed742c7a68200475a93c@squarespace.com
DTSTAMP:20200603T183600Z
DTSTART:20200421T150000Z
DTEND:20200421T160000Z
SUMMARY:Tele-Townhall with CSGJ Leadership
END:VEVENT
END:VCALENDAR
