BEGIN:VCALENDAR
VERSION:2.0
PRODID:-//Squarespace Inc/Squarespace 6//v6//EN
BEGIN:VEVENT
UID:5ed7eba3b5674a0377099d8e@squarespace.com
DTSTAMP:20200603T182837Z
DTSTART:20200402T130000Z
DTEND:20200402T140000Z
SUMMARY:Virtual Thursday Panel: Taxation and Implementation - The COVID-19 
 Stimulus Package
END:VEVENT
END:VCALENDAR
