BEGIN:VCALENDAR
VERSION:2.0
PRODID:-//Squarespace Inc/Squarespace 6//v6//EN
BEGIN:VEVENT
UID:5ed802acfdf20d22800b7754@squarespace.com
DTSTAMP:20200603T200620Z
DTSTART:20200402T143000Z
DTEND:20200402T153000Z
SUMMARY:District Director Zoom Conference: Impact of Corona on Districts - 
 III
END:VEVENT
END:VCALENDAR
