BEGIN:VCALENDAR
VERSION:2.0
PRODID:-//Squarespace Inc/Squarespace 6//v6//EN
BEGIN:VEVENT
UID:5ed7ff2f97d86950093b2271@squarespace.com
DTSTAMP:20200603T195244Z
DTSTART:20200402T160000Z
DTEND:20200402T170000Z
SUMMARY:Congress to Campus Zoom Conference with Arizona State University
END:VEVENT
END:VCALENDAR
