BEGIN:VCALENDAR
VERSION:2.0
PRODID:-//Squarespace Inc/Squarespace 6//v6//EN
BEGIN:VEVENT
UID:5ed7ec69b5674a037709c8f4@squarespace.com
DTSTAMP:20200603T183136Z
DTSTART:20200417T130000Z
DTEND:20200417T140000Z
SUMMARY:Virtual Roundtable Special
END:VEVENT
END:VCALENDAR
