BEGIN:VCALENDAR
VERSION:2.0
PRODID:-//Squarespace Inc/Squarespace 6//v6//EN
BEGIN:VEVENT
UID:5fca4e066a94db17e49e908a@squarespace.com
DTSTAMP:20201204T145646Z
DTSTART:20201202T203000Z
DTEND:20201202T220000Z
SUMMARY:Congress to Campus: Pennsylvania State University
GEO:40.720756;-74.000761
LOCATION:FMC\, 1401 K Street NW\, Suite 901\, Washington\, DC 20005\, USA
END:VEVENT
END:VCALENDAR
