BEGIN:VCALENDAR
VERSION:2.0
PRODID:-//Squarespace Inc/Squarespace 6//v6//EN
BEGIN:VEVENT
UID:5fca4e30be6684539df7e31d@squarespace.com
DTSTAMP:20201204T145709Z
DTSTART:20201203T000000Z
DTEND:20201203T010000Z
SUMMARY:Congress to Campus: BridgeUSA
GEO:0.0;0.0
LOCATION:FMC\, 1401 K Street NW\, Suite 901\, Washington\, DC 20005\, USA
END:VEVENT
END:VCALENDAR
