BEGIN:VCALENDAR
VERSION:2.0
PRODID:-//Squarespace Inc/Squarespace 6//v6//EN
BEGIN:VEVENT
UID:5fca4dcccf87d0256ffa7323@squarespace.com
DTSTAMP:20201204T145532Z
DTSTART:20201201T160000Z
DTEND:20201201T170000Z
SUMMARY:Congress to Campus: University of Central Florida
GEO:0.0;0.0
LOCATION:FMC\, 1401 K Street NW\, Suite 901\, Washington\, DC 20005\, USA
END:VEVENT
END:VCALENDAR
