BEGIN:VCALENDAR
VERSION:2.0
PRODID:-//Squarespace Inc/Squarespace 6//v6//EN
BEGIN:VEVENT
UID:5fca4de92f5dbb44b78a0302@squarespace.com
DTSTAMP:20201204T145604Z
DTSTART:20201201T170000Z
DTEND:20201201T180000Z
SUMMARY:Congress to Campus: University of Central Florida
GEO:40.720756;-74.000761
LOCATION:FMC\, 1401 K Street NW\, Suite 901\, Washington\, DC 20005\, USA
END:VEVENT
END:VCALENDAR
