BEGIN:VCALENDAR
VERSION:2.0
PRODID:-//Squarespace Inc/Squarespace 6//v6//EN
BEGIN:VEVENT
UID:5f8f3714d5ad61097637d350@squarespace.com
DTSTAMP:20201020T191503Z
DTSTART:20201109T153000Z
DTEND:20201109T163000Z
SUMMARY:Congress to Campus: BridgeUSA
END:VEVENT
END:VCALENDAR
