BEGIN:VCALENDAR
VERSION:2.0
PRODID:-//Squarespace Inc/Squarespace 6//v6//EN
BEGIN:VEVENT
UID:5fa819ce2057b138b45539a0@squarespace.com
DTSTAMP:20201108T161712Z
DTSTART:20201106T163000Z
DTEND:20201106T173000Z
SUMMARY:Virtual Roundtable Discussion: Atlantik-Brueke Post-Election Discus
 sion
GEO:40.720756;-74.000761
LOCATION:FMC\, 1401 K Street NW\, Suite 901\, Washington\, DC 20005\, USA
END:VEVENT
END:VCALENDAR
