BEGIN:VCALENDAR
VERSION:2.0
PRODID:-//Squarespace Inc/Squarespace 6//v6//EN
BEGIN:VEVENT
UID:5fca4daabe6684539df7c4b4@squarespace.com
DTSTAMP:20201204T145503Z
DTSTART:20201119T170000Z
DTEND:20201119T180000Z
SUMMARY:Congress to Campus: International - Amerika Haus\, Germany
GEO:0.0;0.0
LOCATION:FMC\, 1401 K Street NW\, Suite 901\, Washington\, DC 20005\, USA
END:VEVENT
END:VCALENDAR
