BEGIN:VCALENDAR
VERSION:2.0
PRODID:-//Squarespace Inc/Squarespace 6//v6//EN
BEGIN:VEVENT
UID:5fca4d81822fbd3263ebf33e@squarespace.com
DTSTAMP:20201204T145430Z
DTSTART:20201119T180000Z
DTEND:20201119T190000Z
SUMMARY:Congress to Campus: Florida Agricultural &amp\; Mechanical Universi
 ty (HBCU)
GEO:40.720756;-74.000761
LOCATION:FMC\, 1401 K Street NW\, Suite 901\, Washington\, DC 20005\, USA
END:VEVENT
END:VCALENDAR
