BEGIN:VCALENDAR
VERSION:2.0
PRODID:-//Squarespace Inc/Squarespace 6//v6//EN
BEGIN:VEVENT
UID:5fca4d69ec1d586fb39a8312@squarespace.com
DTSTAMP:20201204T145351Z
DTSTART:20201119T150000Z
DTEND:20201119T160000Z
SUMMARY:Congress to Campus: Bowie State University (HBCU)
GEO:40.720756;-74.000761
LOCATION:FMC\, 1401 K Street NW\, Suite 901\, Washington\, DC 20005\, USA
END:VEVENT
END:VCALENDAR
