BEGIN:VCALENDAR
VERSION:2.0
PRODID:-//Squarespace Inc/Squarespace 6//v6//EN
BEGIN:VEVENT
UID:5f8f37f36b30ff705c8af7b4@squarespace.com
DTSTAMP:20201020T191853Z
DTSTART:20201118T203000Z
DTEND:20201118T213000Z
SUMMARY:Congress to Campus: BridgeUSA
END:VEVENT
END:VCALENDAR
