BEGIN:VCALENDAR
VERSION:2.0
PRODID:-//Squarespace Inc/Squarespace 6//v6//EN
BEGIN:VEVENT
UID:5fa81c60116faf366cd46e81@squarespace.com
DTSTAMP:20201108T174512Z
DTSTART:20201119T200000Z
DTEND:20201119T210000Z
SUMMARY:Virtual Thursday Panel: Reflections of the 2020 Election &amp\; Dis
 cussion of the Upcoming Transition by Distinguished Former Senators
GEO:40.720756;-74.000761
LOCATION:FMC\, 1401 K Street NW\, Suite 901\, Washington\, DC 20005\, USA
END:VEVENT
END:VCALENDAR
