BEGIN:VCALENDAR
VERSION:2.0
PRODID:-//Squarespace Inc/Squarespace 6//v6//EN
BEGIN:VEVENT
UID:5f8f36ef4302324515c74d86@squarespace.com
DTSTAMP:20201020T191421Z
DTSTART:20201020T213000Z
DTEND:20201020T223000Z
SUMMARY:Congress to Campus: Union College
END:VEVENT
END:VCALENDAR
