BEGIN:VCALENDAR
VERSION:2.0
PRODID:-//Squarespace Inc/Squarespace 6//v6//EN
BEGIN:VEVENT
UID:5f8f36d0833d2e2c71326c18@squarespace.com
DTSTAMP:20201020T191342Z
DTSTART:20201020T193000Z
DTEND:20201020T203000Z
SUMMARY:Congress to Campus: Gannon University
END:VEVENT
END:VCALENDAR
