BEGIN:VCALENDAR
VERSION:2.0
PRODID:-//Squarespace Inc/Squarespace 6//v6//EN
BEGIN:VEVENT
UID:5f57e1e3243c7c0e8609cbc9@squarespace.com
DTSTAMP:20200928T202116Z
DTSTART:20201022T140000Z
DTEND:20201022T150000Z
SUMMARY:First Annual Global Former Parliamentarian Virtual Assembly 
END:VEVENT
END:VCALENDAR
