BEGIN:VCALENDAR
VERSION:2.0
PRODID:-//Squarespace Inc/Squarespace 6//v6//EN
BEGIN:VEVENT
UID:5cf15127e237bd0001aa3f52@squarespace.com
DTSTAMP:20190531T160724Z
DTSTART:20191025T163000Z
DTEND:20191027T173000Z
SUMMARY:Chief of Staff Baltimore Retreat 
END:VEVENT
END:VCALENDAR
