BEGIN:VCALENDAR
VERSION:2.0
PRODID:-//Squarespace Inc/Squarespace 6//v6//EN
BEGIN:VEVENT
UID:5d8b7a6b26000b558aa9107a@squarespace.com
DTSTAMP:20190925T145307Z
DTSTART:20191024T170000Z
DTEND:20191025T190000Z
SUMMARY:Two-day Conference on the Organizational Climate of Congress 
GEO:38.989697;-76.93776
LOCATION:University of Maryland\, College Park\, MD
END:VEVENT
END:VCALENDAR
