BEGIN:VCALENDAR
VERSION:2.0
PRODID:-//Squarespace Inc/Squarespace 6//v6//EN
BEGIN:VEVENT
UID:5d890f8c83cc08778a747fac@squarespace.com
DTSTAMP:20191003T160027Z
DTSTART:20191023T230000Z
DTEND:20191024T003000Z
SUMMARY:National Archives: The Credibility of the Fourth Estate\, Past and 
 Present 
GEO:38.907192;-77.036871
LOCATION:William G. McGowan Theater\, Washington\, D.C.
END:VEVENT
END:VCALENDAR
