BEGIN:VCALENDAR
VERSION:2.0
PRODID:-//Squarespace Inc/Squarespace 6//v6//EN
BEGIN:VEVENT
UID:5d88e78d98212349b9104363@squarespace.com
DTSTAMP:20190923T155017Z
DTSTART:20191017T120000Z
DTEND:20191017T131500Z
SUMMARY:Turning Point or Continuity
GEO:40.707399;-74.010209
LOCATION:Federal Hall\, 15 Pine Street Entrance\, New York\, NY
END:VEVENT
END:VCALENDAR
