BEGIN:VCALENDAR
VERSION:2.0
PRODID:-//Squarespace Inc/Squarespace 6//v6//EN
BEGIN:VEVENT
UID:5b4626b770a6ad90b51a13dd@squarespace.com
DTSTAMP:20180817T133804Z
DTSTART:20180903T120000Z
DTEND:20180909T000000Z
SUMMARY:District Director Study Tour to Puerto Rico
END:VEVENT
END:VCALENDAR
