BEGIN:VCALENDAR
VERSION:2.0
PRODID:-//Squarespace Inc/Squarespace 6//v6//EN
BEGIN:VEVENT
UID:5b4627f4f950b77c7426f1bc@squarespace.com
DTSTAMP:20180803T135242Z
DTSTART:20180917T160000Z
DTEND:20180919T170000Z
SUMMARY:Congress to Campus-Dalton College
END:VEVENT
END:VCALENDAR
