BEGIN:VCALENDAR
VERSION:2.0
PRODID:-//Squarespace Inc/Squarespace 6//v6//EN
BEGIN:VEVENT
UID:5b4626396d2a73ffbad218ef@squarespace.com
DTSTAMP:20180810T120418Z
DTSTART:20180910T160000Z
DTEND:20180912T170000Z
SUMMARY:American Democracy and Civic Study Tour
END:VEVENT
END:VCALENDAR
