BEGIN:VCALENDAR
VERSION:2.0
PRODID:-//Squarespace Inc/Squarespace 6//v6//EN
BEGIN:VEVENT
UID:5b46270888251b6947586c6b@squarespace.com
DTSTAMP:20180817T133613Z
DTSTART:20180905T220000Z
DTEND:20180905T230000Z
SUMMARY:Memorial Service
END:VEVENT
END:VCALENDAR
