BEGIN:VCALENDAR
VERSION:2.0
PRODID:-//Squarespace Inc/Squarespace 6//v6//EN
BEGIN:VEVENT
UID:5b46275af950b77c7426c602@squarespace.com
DTSTAMP:20180803T135507Z
DTSTART:20180916T160000Z
DTEND:20180918T170000Z
SUMMARY:Congress to Campus- William & Mary
END:VEVENT
END:VCALENDAR
