BEGIN:VCALENDAR
VERSION:2.0
PRODID:-//Squarespace Inc/Squarespace 6//v6//EN
BEGIN:VEVENT
UID:5b4627a6758d466380324fb5@squarespace.com
DTSTAMP:20180827T135530Z
DTSTART:20180916T160000Z
DTEND:20180918T170000Z
SUMMARY:Congress to Campus- Missouri Western State University
END:VEVENT
END:VCALENDAR
