BEGIN:VCALENDAR
VERSION:2.0
PRODID:-//Squarespace Inc/Squarespace 6//v6//EN
BEGIN:VEVENT
UID:5b281102f950b7a1b553c33e@squarespace.com
DTSTAMP:20180619T164738Z
DTSTART:20180626T113000Z
DTEND:20180626T123000Z
SUMMARY:FMC/Envision: Former Members speak with Middle School Students on H
 ouse Floor
END:VEVENT
END:VCALENDAR
