BEGIN:VCALENDAR
VERSION:2.0
PRODID:-//Squarespace Inc/Squarespace 6//v6//EN
BEGIN:VEVENT
UID:5b2810a2758d463caaba29c2@squarespace.com
DTSTAMP:20180619T164703Z
DTSTART:20180625T113000Z
DTEND:20180625T123000Z
SUMMARY:FMC/Envision: Former Members speak with Middle School Students on H
 ouse Floor
END:VEVENT
END:VCALENDAR
