BEGIN:VCALENDAR
VERSION:2.0
PRODID:-//Squarespace Inc/Squarespace 6//v6//EN
BEGIN:VEVENT
UID:5acbc0d4562fa79982ade159@squarespace.com
DTSTAMP:20180409T193720Z
DTSTART:20180504T200000Z
DTEND:20180504T210000Z
SUMMARY:Legacy International Congressional Roundtable and tour
END:VEVENT
END:VCALENDAR
