BEGIN:VCALENDAR
VERSION:2.0
PRODID:-//Squarespace Inc/Squarespace 6//v6//EN
BEGIN:VEVENT
UID:5acbc09a758d46742a9008a5@squarespace.com
DTSTAMP:20180409T193644Z
DTSTART:20180428T200000Z
DTEND:20180505T210000Z
SUMMARY:CSGK: Member Study Tour to Seoul 
END:VEVENT
END:VCALENDAR
