BEGIN:VCALENDAR
VERSION:2.0
PRODID:-//Squarespace Inc/Squarespace 6//v6//EN
BEGIN:VEVENT
UID:5acbc085f950b742523ecf60@squarespace.com
DTSTAMP:20180409T193544Z
DTSTART:20180424T200000Z
DTEND:20180424T210000Z
SUMMARY:Congress to Campus High School Webinar
END:VEVENT
END:VCALENDAR
