BEGIN:VCALENDAR
VERSION:2.0
PRODID:-//Squarespace Inc/Squarespace 6//v6//EN
BEGIN:VEVENT
UID:5acbc05b6d2a73d3a0215ffe@squarespace.com
DTSTAMP:20180409T193515Z
DTSTART:20180422T200000Z
DTEND:20180424T210000Z
SUMMARY:Congress to Campus: Napa Valley Community College
END:VEVENT
END:VCALENDAR
