BEGIN:VCALENDAR
VERSION:2.0
PRODID:-//Squarespace Inc/Squarespace 6//v6//EN
BEGIN:VEVENT
UID:5acbbf9caa4a998f3f82e7e6@squarespace.com
DTSTAMP:20180409T193157Z
DTSTART:20180413T200000Z
DTEND:20180419T210000Z
SUMMARY:CSGG: District Director Study Tour to Germany
END:VEVENT
END:VCALENDAR
