BEGIN:VCALENDAR
VERSION:2.0
PRODID:-//Squarespace Inc/Squarespace 6//v6//EN
BEGIN:VEVENT
UID:5bd7585c8165f5a5e927d0ac@squarespace.com
DTSTAMP:20181029T190040Z
DTSTART:20181107T190000Z
DTEND:20181107T200000Z
SUMMARY:Press Briefing: What the Results Tell Us About the 116th Congress
END:VEVENT
END:VCALENDAR
